BEGIN:VCALENDAR
VERSION:2.0
PRODID:-//L&#039;Autre &quot;lieu&quot; - ECPv6.5.1//NONSGML v1.0//EN
CALSCALE:GREGORIAN
METHOD:PUBLISH
X-WR-CALNAME:L&#039;Autre &quot;lieu&quot;
X-ORIGINAL-URL:https://www.autrelieu.be
X-WR-CALDESC:évènements pour L&#039;Autre &quot;lieu&quot;
REFRESH-INTERVAL;VALUE=DURATION:PT1H
X-Robots-Tag:noindex
X-PUBLISHED-TTL:PT1H
BEGIN:VTIMEZONE
TZID:Europe/Brussels
BEGIN:DAYLIGHT
TZOFFSETFROM:+0100
TZOFFSETTO:+0200
TZNAME:CEST
DTSTART:20260329T010000
END:DAYLIGHT
BEGIN:STANDARD
TZOFFSETFROM:+0200
TZOFFSETTO:+0100
TZNAME:CET
DTSTART:20261025T010000
END:STANDARD
END:VTIMEZONE
BEGIN:VEVENT
DTSTART;TZID=Europe/Brussels:20260323T150000
DTEND;TZID=Europe/Brussels:20260323T170000
DTSTAMP:20260421T021006
CREATED:20260305T100313Z
LAST-MODIFIED:20260305T100315Z
UID:10692-1774278000-1774285200@www.autrelieu.be
SUMMARY:La Graine
DESCRIPTION:La Graine est un espace de parole et d’entraide ouvert à toutes et à tous. \n\n\n\nOn y parle de ce qui nous traverse\, on y échange nos expériences\, nos épreuves personnelles\, nos difficultés\, nos victoires\, nos désirs. \n\n\n\nC’est un lieu de rencontre où l’attention se porte sur nos ressources et nos énergies plutôt que sur nos faiblesses ou nos handicaps.
URL:https://www.autrelieu.be/evenement/la-graine-145/
LOCATION:L’Autre “lieu”\, 5\, rue de la Clé\, Bruxelles\, 1000\, Belgique
END:VEVENT
END:VCALENDAR