BEGIN:VCALENDAR
VERSION:2.0
PRODID:-//L&#039;Autre &quot;lieu&quot; - ECPv6.5.1//NONSGML v1.0//EN
CALSCALE:GREGORIAN
METHOD:PUBLISH
X-WR-CALNAME:L&#039;Autre &quot;lieu&quot;
X-ORIGINAL-URL:https://www.autrelieu.be
X-WR-CALDESC:évènements pour L&#039;Autre &quot;lieu&quot;
REFRESH-INTERVAL;VALUE=DURATION:PT1H
X-Robots-Tag:noindex
X-PUBLISHED-TTL:PT1H
BEGIN:VTIMEZONE
TZID:Europe/Brussels
BEGIN:DAYLIGHT
TZOFFSETFROM:+0100
TZOFFSETTO:+0200
TZNAME:CEST
DTSTART:20260329T010000
END:DAYLIGHT
BEGIN:STANDARD
TZOFFSETFROM:+0200
TZOFFSETTO:+0100
TZNAME:CET
DTSTART:20261025T010000
END:STANDARD
END:VTIMEZONE
BEGIN:VEVENT
DTSTART;TZID=Europe/Brussels:20260325T111500
DTEND;TZID=Europe/Brussels:20260325T130000
DTSTAMP:20260421T021029
CREATED:20260305T102437Z
LAST-MODIFIED:20260305T102438Z
UID:10697-1774437300-1774443600@www.autrelieu.be
SUMMARY:Réunion RAGE
DESCRIPTION:Chaque 2eme et dernier mercredi du mois à partir de 11h15 accueil\, et 11h30 début de la réunion \n\n\n\n༘⋆ Venez nous retrouver pour discuter des projets et de l’organisation de l’Autre “lieu” à la réunion ouverte ༘⋆ \n\n\n\nVous avez une proposition à faire ? \n\n\n\nVous avez un avis pour améliorer notre projet collectif ? Vous avez une critique à émettre ? Dans un cadre précis de réunion\, partageons nos points de vues et mettons en commun nos idées.
URL:https://www.autrelieu.be/evenement/reunion-rage-20/
LOCATION:L’Autre “lieu”\, 5\, rue de la Clé\, Bruxelles\, 1000\, Belgique
END:VEVENT
BEGIN:VEVENT
DTSTART;TZID=Europe/Brussels:20260325T140000
DTEND;TZID=Europe/Brussels:20260325T170000
DTSTAMP:20260421T021029
CREATED:20260317T101041Z
LAST-MODIFIED:20260317T101412Z
UID:10743-1774447200-1774458000@www.autrelieu.be
SUMMARY:TRANSMISSION D'OUTIL VIOLENCE // CONFLIT
DESCRIPTION:Comme à l’Autre lieu on se questionne sur la violence et la manière dont on y réagit\, Maya propose de vous partager une partie des recherches issues du collectif Matrisses\, pour se demander “qu’est ce qui différencie la violence du conflit?”. \n\n\n\nAu programme :  \n\n\n\n– Ancrages : Qu’est-ce que les Matrisses\, la justice transformatrice et l’asbl Praxis ? \n\n\n\n– La charge des mots : Pourquoi vouloir différencier conflit et agression ?  \n\n\n\n– Clés de compréhension : des questions\, des questions et toujours des questions ! \n\n\n\nSpoiler alert : y aura pas de recettes toutes faites ni de réponses exhaustives\, mais des pistes pour chercher ensemble à comprendre des situations qui nous posent problème. \n\n\n\nBienvenue à toustes !  \n\n\n\nBisous 🫶 \n\n\n\n\n\n\n\n\nOù? A l’Autre “lieu” au 5\, rue de la Clé (1000 Bruxelles)
URL:https://www.autrelieu.be/evenement/transmission-doutil-violence-conflit/
LOCATION:L’Autre “lieu”\, 5\, rue de la Clé\, Bruxelles\, 1000\, Belgique
END:VEVENT
END:VCALENDAR