BEGIN:VCALENDAR
VERSION:2.0
PRODID:-//L&#039;Autre &quot;lieu&quot; - ECPv6.5.1//NONSGML v1.0//EN
CALSCALE:GREGORIAN
METHOD:PUBLISH
X-WR-CALNAME:L&#039;Autre &quot;lieu&quot;
X-ORIGINAL-URL:https://www.autrelieu.be
X-WR-CALDESC:évènements pour L&#039;Autre &quot;lieu&quot;
REFRESH-INTERVAL;VALUE=DURATION:PT1H
X-Robots-Tag:noindex
X-PUBLISHED-TTL:PT1H
BEGIN:VTIMEZONE
TZID:Europe/Brussels
BEGIN:DAYLIGHT
TZOFFSETFROM:+0100
TZOFFSETTO:+0200
TZNAME:CEST
DTSTART:20260329T010000
END:DAYLIGHT
BEGIN:STANDARD
TZOFFSETFROM:+0200
TZOFFSETTO:+0100
TZNAME:CET
DTSTART:20261025T010000
END:STANDARD
END:VTIMEZONE
BEGIN:VEVENT
DTSTART;TZID=Europe/Brussels:20260326T140000
DTEND;TZID=Europe/Brussels:20260326T170000
DTSTAMP:20260421T021430
CREATED:20260305T102409Z
LAST-MODIFIED:20260305T102410Z
UID:10700-1774533600-1774544400@www.autrelieu.be
SUMMARY:Labo
DESCRIPTION:Le LABO\, c’est un espace où réagissent les substance chimiques de notre pensée ; on y passe au microscope les présupposés\, on y scanne la cohue de nos idées et on radiographie le discours dominant. En présence d’agents perturbateurs (un livre\, une image\, un événement\, ou un question)\, on y fait des expériences\, histoire de renforcer notre immunité critique.
URL:https://www.autrelieu.be/evenement/labo-23/
LOCATION:L’Autre “lieu”\, 5\, rue de la Clé\, Bruxelles\, 1000\, Belgique
END:VEVENT
END:VCALENDAR