BEGIN:VCALENDAR
VERSION:2.0
PRODID:-//L&#039;Autre &quot;lieu&quot; - ECPv6.5.1//NONSGML v1.0//EN
CALSCALE:GREGORIAN
METHOD:PUBLISH
X-WR-CALNAME:L&#039;Autre &quot;lieu&quot;
X-ORIGINAL-URL:https://www.autrelieu.be
X-WR-CALDESC:évènements pour L&#039;Autre &quot;lieu&quot;
REFRESH-INTERVAL;VALUE=DURATION:PT1H
X-Robots-Tag:noindex
X-PUBLISHED-TTL:PT1H
BEGIN:VTIMEZONE
TZID:Europe/Brussels
BEGIN:DAYLIGHT
TZOFFSETFROM:+0100
TZOFFSETTO:+0200
TZNAME:CEST
DTSTART:20260329T010000
END:DAYLIGHT
BEGIN:STANDARD
TZOFFSETFROM:+0200
TZOFFSETTO:+0100
TZNAME:CET
DTSTART:20261025T010000
END:STANDARD
END:VTIMEZONE
BEGIN:VEVENT
DTSTART;TZID=Europe/Brussels:20260401T143000
DTEND;TZID=Europe/Brussels:20260401T170000
DTSTAMP:20260420T225940
CREATED:20260305T104328Z
LAST-MODIFIED:20260305T104330Z
UID:10710-1775053800-1775062800@www.autrelieu.be
SUMMARY:Acrasiales (atelier d’écriture)
DESCRIPTION:Écrire\, écrire ! Oui\, mais quoi ? Dans une ambiance chaleureuse et détendue\, rejoignons-nous pour partager le plaisir des mots\, de la créativité et de l’invention. Une approche ludique\, des jeux collectifs et individuels à la portée de tous et une bonne humeur revendiquée nous entraînent vers le monde merveilleux et vaste de la poésie et de la fiction.
URL:https://www.autrelieu.be/evenement/acrasiales-atelier-decriture-13/
LOCATION:L’Autre “lieu”\, 5\, rue de la Clé\, Bruxelles\, 1000\, Belgique
END:VEVENT
BEGIN:VEVENT
DTSTART;TZID=Europe/Brussels:20260401T190000
DTEND;TZID=Europe/Brussels:20260401T210000
DTSTAMP:20260420T225940
CREATED:20260324T142200Z
LAST-MODIFIED:20260324T142325Z
UID:10778-1775070000-1775077200@www.autrelieu.be
SUMMARY:Amikarociné
DESCRIPTION:« Hair\, paper\, water… » \n\n\n\nAu cinéma Flagey \n\n\n\nPremière en présence de Minh Quy Truong et Nicolas Graux\, réalisateurs \n\n\n\n \n\n\n\nRéalisation :Minh Quy Truong\, Nicolas Graux \n\n\n\nBE/FR/VN – 2025 – documentaire – couleur – 71′ \n\n\n\nVO Sous-Titré français \n\n\n\nDans un village à la frontière du Viêt Nam et du Laos\, une vieille dame transmet à ses petits-enfants le langage fragile et les traditions des Rục\, une minorité ethnique. Tourné en 16mm granuleux\, ce documentaire sensoriel et poétique suscite un sentiment d’émerveillement silencieux. \n\n\n\nPrix : 1\,25 euros ( Article 27) \n\n\n\nRdv à 18h45 devant la Cinématek Flagey Place Sainte-Croix\, 1050 BruxellesTram\, Bus: 81\, 38\, 59\, 60\, 71\,
URL:https://www.autrelieu.be/evenement/amikarocine-2/
LOCATION:Cinématek Flagey\, place sainte-croix\, ixelles\, 1050\, Belgique
END:VEVENT
END:VCALENDAR