BEGIN:VCALENDAR
VERSION:2.0
PRODID:-//L&#039;Autre &quot;lieu&quot; - ECPv6.5.1//NONSGML v1.0//EN
CALSCALE:GREGORIAN
METHOD:PUBLISH
X-WR-CALNAME:L&#039;Autre &quot;lieu&quot;
X-ORIGINAL-URL:https://www.autrelieu.be
X-WR-CALDESC:évènements pour L&#039;Autre &quot;lieu&quot;
REFRESH-INTERVAL;VALUE=DURATION:PT1H
X-Robots-Tag:noindex
X-PUBLISHED-TTL:PT1H
BEGIN:VTIMEZONE
TZID:Europe/Brussels
BEGIN:DAYLIGHT
TZOFFSETFROM:+0100
TZOFFSETTO:+0200
TZNAME:CEST
DTSTART:20260329T010000
END:DAYLIGHT
BEGIN:STANDARD
TZOFFSETFROM:+0200
TZOFFSETTO:+0100
TZNAME:CET
DTSTART:20261025T010000
END:STANDARD
END:VTIMEZONE
BEGIN:VEVENT
DTSTART;TZID=Europe/Brussels:20260407T140000
DTEND;TZID=Europe/Brussels:20260407T170000
DTSTAMP:20260420T225750
CREATED:20260305T105429Z
LAST-MODIFIED:20260305T105431Z
UID:10717-1775570400-1775581200@www.autrelieu.be
SUMMARY:Comité de confection fanzine
DESCRIPTION:L’activité « comité de confection fanzine » c’est un atelier polymorphe pour créer ensemble le 8eme numéro de L’autre « Zine” \n\n\n\nL’Autre ” Zine” c’est une petite publication qui regroupe une année d’activités avec et autour de l’Autre “lieu”.L’atelier fonctionne comme une vraie rédaction de magazine. On y raconte des temps forts ou faibles\, des histoires\, on y colle des images\, des impressions\, des idées. On collecte des souvenirs ou des rêves que nous compilerons\, éditerons\, imprimerons et distribuerons à tout vent au printemps 2026. \n\n\n\nSi tu te sens l’âme d’un ou d’une rédacteur•ices\, conteureuse\, photo-reporter sans frontière\, illustrateur•ice\, collagiste\, chroniqueureuse\, astrologue\, dactylo\, graphiste\, etc…. Rejoins-nous au comité de confection Fanzine. \n\n\n\nParticipation spontanée ou au long cour\, bienvenue! \n\n\n\nLes ateliers auront lieu plusieurs fois par mois\, les mardis ou mercredi et jusqu’au mois de mars.
URL:https://www.autrelieu.be/evenement/comite-de-confection-fanzine-18/
LOCATION:L’Autre “lieu”\, 5\, rue de la Clé\, Bruxelles\, 1000\, Belgique
END:VEVENT
END:VCALENDAR