BEGIN:VCALENDAR
VERSION:2.0
PRODID:-//L&#039;Autre &quot;lieu&quot; - ECPv6.5.1//NONSGML v1.0//EN
CALSCALE:GREGORIAN
METHOD:PUBLISH
X-WR-CALNAME:L&#039;Autre &quot;lieu&quot;
X-ORIGINAL-URL:https://www.autrelieu.be
X-WR-CALDESC:évènements pour L&#039;Autre &quot;lieu&quot;
REFRESH-INTERVAL;VALUE=DURATION:PT1H
X-Robots-Tag:noindex
X-PUBLISHED-TTL:PT1H
BEGIN:VTIMEZONE
TZID:Europe/Brussels
BEGIN:DAYLIGHT
TZOFFSETFROM:+0100
TZOFFSETTO:+0200
TZNAME:CEST
DTSTART:20260329T010000
END:DAYLIGHT
BEGIN:STANDARD
TZOFFSETFROM:+0200
TZOFFSETTO:+0100
TZNAME:CET
DTSTART:20261025T010000
END:STANDARD
END:VTIMEZONE
BEGIN:VEVENT
DTSTART;TZID=Europe/Brussels:20260408T111500
DTEND;TZID=Europe/Brussels:20260408T130000
DTSTAMP:20260420T225845
CREATED:20260317T103001Z
LAST-MODIFIED:20260317T103002Z
UID:10756-1775646900-1775653200@www.autrelieu.be
SUMMARY:Réunion Rage
DESCRIPTION:Chaque 2eme et dernier mercredi du mois à partir de 11h15 accueil\, et 11h30 début de la réunion \n\n\n\n༘⋆ Venez nous retrouver pour discuter des projets et de l’organisation de l’Autre “lieu” à la réunion ouverte ༘⋆ \n\n\n\nVous avez une proposition à faire ? \n\n\n\nVous avez un avis pour améliorer notre projet collectif ? Vous avez une critique à émettre ? Dans un cadre précis de réunion\, partageons nos points de vues et mettons en commun nos idées.
URL:https://www.autrelieu.be/evenement/reunion-rage-18/
LOCATION:L’Autre “lieu”\, 5\, rue de la Clé\, Bruxelles\, 1000\, Belgique
END:VEVENT
BEGIN:VEVENT
DTSTART;TZID=Europe/Brussels:20260408T140000
DTEND;TZID=Europe/Brussels:20260408T170000
DTSTAMP:20260420T225845
CREATED:20260317T103452Z
LAST-MODIFIED:20260317T103453Z
UID:10758-1775656800-1775667600@www.autrelieu.be
SUMMARY:Mix Kiosk Radio & Pétanque
DESCRIPTION:Le printemps arrive ! ! ! Après-midi pétanque au Parc Royale\, les oreilles chatouillées par Kiosk Radio ! \n\n\n\nUn peu d’air frais !
URL:https://www.autrelieu.be/evenement/mix-kiosk-radio-petanque-3/
LOCATION:Parc Royal de Bruxelles\, Parc de Bruxelles\, Bruxelles\, 1000\, Belgique
END:VEVENT
END:VCALENDAR