BEGIN:VCALENDAR
VERSION:2.0
PRODID:-//L&#039;Autre &quot;lieu&quot; - ECPv6.5.1//NONSGML v1.0//EN
CALSCALE:GREGORIAN
METHOD:PUBLISH
X-WR-CALNAME:L&#039;Autre &quot;lieu&quot;
X-ORIGINAL-URL:https://www.autrelieu.be
X-WR-CALDESC:évènements pour L&#039;Autre &quot;lieu&quot;
REFRESH-INTERVAL;VALUE=DURATION:PT1H
X-Robots-Tag:noindex
X-PUBLISHED-TTL:PT1H
BEGIN:VTIMEZONE
TZID:Europe/Brussels
BEGIN:DAYLIGHT
TZOFFSETFROM:+0100
TZOFFSETTO:+0200
TZNAME:CEST
DTSTART:20260329T010000
END:DAYLIGHT
BEGIN:STANDARD
TZOFFSETFROM:+0200
TZOFFSETTO:+0100
TZNAME:CET
DTSTART:20261025T010000
END:STANDARD
END:VTIMEZONE
BEGIN:VEVENT
DTSTART;TZID=Europe/Brussels:20260410T130000
DTEND;TZID=Europe/Brussels:20260410T170000
DTSTAMP:20260421T052243
CREATED:20260317T102418Z
LAST-MODIFIED:20260317T102419Z
UID:10754-1775826000-1775840400@www.autrelieu.be
SUMMARY:AmikaroCoffee
DESCRIPTION:Bienvenue à la Maison de l’Autre « Lieu » ! \n\n\n\nLe vendredi après-midi c’est l’Amikaro coffee (de 13h à 17h – parfois 16h si y’a autre chose après 🙂) \n\n\n\nAmikaro\, ça veut dire cercle d’amix en esperanto. \n\n\n\nOn y vient pour (re)tisser des liens\, (re)voir des visages familiers\, habiter un endroit et coconstruire des manières d’être ensemble. \n\n\n\nComme on aime que chacaine prenne soin de l’endroit et des genxtes qui s’y trouvent\, on s’autogère\, et ça\, c’est vraiment super ! \n\n\n\nOn y vient comme on est et on y fait ce qu’on veut\, surtout si c’est rien.  \n\n\n\nOn peut aussi papoter autour d’un café ou d’un thé\, se taire\, jouer à des jeux. \n\n\n\nParfois on cuisine et on mange ensemble ; on lit (seul.e ou à plusieurs) dans les divans de la mezzanine ; on se pose\, on partage\, on se rencontre ; des fois on joue de la musique dans un coin. \n\n\n\nA vendredi ? 
URL:https://www.autrelieu.be/evenement/amikarocoffee-214/
LOCATION:L’Autre “lieu”\, 5\, rue de la Clé\, Bruxelles\, 1000\, Belgique
END:VEVENT
BEGIN:VEVENT
DTSTART;TZID=Europe/Brussels:20260410T140000
DTEND;TZID=Europe/Brussels:20260410T153000
DTSTAMP:20260421T052243
CREATED:20260402T114612Z
LAST-MODIFIED:20260407T123607Z
UID:10805-1775829600-1775835000@www.autrelieu.be
SUMMARY:BREAKFASTCLUB
DESCRIPTION:1h30 de danse effrénée \n\n\n\nL’Autre “lieu”** et l’erg croisent leurs énergies\, une fois par mois \n\n\n\nPendant une heure trente (sharp*)\, l”auditoire de l’erg replie ses gradins pour laisser place aux corps\, à tous les corps.  Des corps en mouvements\, ceux de la musique et de la danse. En ce beau début d’ après-midi. \n\n\n\nViens danser dans l’auditoire\, laisse ton corps tanguer sur le rythme. \n\n\n\nLa salle est détournée\, les corps s’expriment le temps de quelques danses\, là où le reste du temps ils restaient assis. \n\n\n\nLe Breakfast Club\, c’est pas de hiérarchie\, plus de profs\, plus de direction\, plus d’élèves ou de personnes d’entretien\, juste un moment d’horizontalité totale\, autour de la danse (ou pas\, selon). \n\n\n\nSi tu te sens en trouble avec ton corps\, c’est l’occasion de prendre quelques minutes pour reconnecter par le défoulement et le lâcher-prise. \n\n\n\nAu Breakfast Club\, on n’est pas là pour mater\, draguer ou juger\, mais plutôt pour passer le contrôle au corps et profiter du moelleux de l’obscurité. \n\n\n\nPourquoi dans un auditoire ? Pour apporter un air neuf. Pour casser et se réapproprier les codes. Pour lier le corps théorique et le corps physique. Ça permet l’expression d’autres énergies : lâcher quelque chose\, prendre autre chose\, se défouler. \n\n\n\nLa circulation de la salle est libre\, on y entre et sort à l’envi. \n\n\n\nSi toi aussi tu veux participer au bon déroulement du Breakfast Club\, il y a du matos à installer pour la préparation et à remballer pour la clôture. \n\n\n\nFiler un coup de main est une garantie pour les organisateurices qu’il y aura des gens sur le coup et que l’évènement puisse perdurer. \n\n\n\nSélectors du jour pour ce mix Ping Pong musical entre l’Autre Lieu avec MC Zonzon et Dj Leshy et Coté Erg avec xam-xam  \n\n\n\nRdv à 13h pour un départ de l’ Autre lieu \n\n\n\nRdv à l’Erg à 14h devant l’entrée de l’Erg 87 rue du Page – 1050 bxl
URL:https://www.autrelieu.be/evenement/breakfastclub-6/
LOCATION:L’ERG\, 87\, rue du page\, Brussels\, Brussels\, 1050\, Belgique
CATEGORIES:Breakfast Club
END:VEVENT
END:VCALENDAR