BEGIN:VCALENDAR
VERSION:2.0
PRODID:-//L&#039;Autre &quot;lieu&quot; - ECPv6.5.1//NONSGML v1.0//EN
CALSCALE:GREGORIAN
METHOD:PUBLISH
X-WR-CALNAME:L&#039;Autre &quot;lieu&quot;
X-ORIGINAL-URL:https://www.autrelieu.be
X-WR-CALDESC:évènements pour L&#039;Autre &quot;lieu&quot;
REFRESH-INTERVAL;VALUE=DURATION:PT1H
X-Robots-Tag:noindex
X-PUBLISHED-TTL:PT1H
BEGIN:VTIMEZONE
TZID:Europe/Brussels
BEGIN:DAYLIGHT
TZOFFSETFROM:+0100
TZOFFSETTO:+0200
TZNAME:CEST
DTSTART:20260329T010000
END:DAYLIGHT
BEGIN:STANDARD
TZOFFSETFROM:+0200
TZOFFSETTO:+0100
TZNAME:CET
DTSTART:20261025T010000
END:STANDARD
END:VTIMEZONE
BEGIN:VEVENT
DTSTART;TZID=Europe/Brussels:20260416T133000
DTEND;TZID=Europe/Brussels:20260416T153000
DTSTAMP:20260421T121744
CREATED:20260402T092227Z
LAST-MODIFIED:20260402T092231Z
UID:10801-1776346200-1776353400@www.autrelieu.be
SUMMARY:Recherche d'un autre lieu pour l'Autre "lieu"
DESCRIPTION:L’Autre Lieu est à la recherche d’un nouveau bâtiment. Viens nous aider à prospecter. \n\n\n\nOn aimerait une grande maison avec un espace extérieur\, à Bruxelles et accessible facilement en transport. \n\n\n\nSi tu as envie de t’investir dans la recherche\, si tu as des outils pour qu’on s’organise\, si tu connais des moyens alternatifs de recherche (en dehors des sites immobilier classiques)\, si tu adores visiter des bâtiments ou si tu es curieux.se de tout ce beau processus : sois le.la bienvenu.e.x.
URL:https://www.autrelieu.be/evenement/recherche-dun-autre-lieu-pour-lautre-lieu/
LOCATION:L’Autre “lieu”\, 5\, rue de la Clé\, Bruxelles\, 1000\, Belgique
END:VEVENT
BEGIN:VEVENT
DTSTART;TZID=Europe/Brussels:20260416T140000
DTEND;TZID=Europe/Brussels:20260416T163000
DTSTAMP:20260421T121744
CREATED:20260402T092602Z
LAST-MODIFIED:20260415T091538Z
UID:10803-1776348000-1776357000@www.autrelieu.be
SUMMARY:Le Labo :: sécuriser nos usages
DESCRIPTION:Le LABO croise le groupe KRIZ pour un temps de réflexion partagé ce jeudi 16 avril; pour l’occasion\, on accueillera Sylvain Piron\, historien médiéviste\, intéressé par tout ce qui vient nous troubler dans nos vies. \n\n\n\nIl sera question de converser à l’entour de la crise/KRIZ et de la légitimité des savoirs expérientiels (non-académiques). \n\n\n\nBienvenue à touste !
URL:https://www.autrelieu.be/evenement/le-labo-securiser-nos-usages/
LOCATION:L’Autre “lieu”\, 5\, rue de la Clé\, Bruxelles\, 1000\, Belgique
CATEGORIES:Le Labo
END:VEVENT
END:VCALENDAR