BEGIN:VCALENDAR
VERSION:2.0
PRODID:-//L&#039;Autre &quot;lieu&quot; - ECPv6.5.1//NONSGML v1.0//EN
CALSCALE:GREGORIAN
METHOD:PUBLISH
X-WR-CALNAME:L&#039;Autre &quot;lieu&quot;
X-ORIGINAL-URL:https://www.autrelieu.be
X-WR-CALDESC:évènements pour L&#039;Autre &quot;lieu&quot;
REFRESH-INTERVAL;VALUE=DURATION:PT1H
X-Robots-Tag:noindex
X-PUBLISHED-TTL:PT1H
BEGIN:VTIMEZONE
TZID:Europe/Brussels
BEGIN:DAYLIGHT
TZOFFSETFROM:+0100
TZOFFSETTO:+0200
TZNAME:CEST
DTSTART:20260329T010000
END:DAYLIGHT
BEGIN:STANDARD
TZOFFSETFROM:+0200
TZOFFSETTO:+0100
TZNAME:CET
DTSTART:20261025T010000
END:STANDARD
END:VTIMEZONE
BEGIN:VEVENT
DTSTART;TZID=Europe/Brussels:20260422T140000
DTEND;TZID=Europe/Brussels:20260422T170000
DTSTAMP:20260420T224937
CREATED:20260416T111743Z
LAST-MODIFIED:20260416T111744Z
UID:10824-1776866400-1776877200@www.autrelieu.be
SUMMARY:Comité de confection fanzine : THE FINAL COUNTDOWN
DESCRIPTION:L’activité « comité de confection fanzine » c’est un atelier polymorphe pour créer ensemble le 8eme numéro de L’autre « Zine” \n\n\n\nL’Autre ” Zine” c’est une petite publication qui regroupe une année d’activités avec et autour de l’Autre “lieu”. Ce mercredi c’est la dernière ligne droite avant l’envoi à l’impression !
URL:https://www.autrelieu.be/evenement/comite-de-confection-fanzine-the-final-countdown/
LOCATION:L’Autre “lieu”\, 5\, rue de la Clé\, Bruxelles\, 1000\, Belgique
CATEGORIES:Comité de Rédaction Fanzine
END:VEVENT
BEGIN:VEVENT
DTSTART;TZID=Europe/Brussels:20260422T180000
DTEND;TZID=Europe/Brussels:20260422T190000
DTSTAMP:20260420T224937
CREATED:20260416T113256Z
LAST-MODIFIED:20260416T113258Z
UID:10826-1776880800-1776884400@www.autrelieu.be
SUMMARY:Pièce audio Nuage Rose (bébé sobre)
DESCRIPTION:Mise en scène\, écriture et jeu : Mathilde Matt Maillard Dramaturgie de l’attention et jeu : Flavio Rodrigo Orzari Création sonore et musicale : Lieven DousselaereRegard et oreille dramaturgique : Charlotte Kouklia\, Myriam Pruvot\, Gaël Santisteva Durée 1H\n\n\n\nBienvenue dans « Nuage Rose (Bébé Sobre) »\, un dispositif sonore qui permet de partager une recherche en direct. Le temps d’une heure\, vous serez invité·es à vous plonger dans les récits intimes de personnes sobres ou en quête de sobriété. \n\n\n\nEntre un reenactement d’un groupe de parole et une pièce documentaire\, Nuage rose est envisagé comme une ode aux tendres anxieux·ses et à celle·ux qui cherchent à réunir l’intensité et le calme dans une même vie. On tentera d’y déconstruire avec humour et sincérité les idées toutes faites sur l’alcool\, le «genre de l’alcool» et la fameuse quête d’une santé mentale.Et de se demander: qui prend soin de qui\, et comment une communauté – même temporaire – peut-elle assumer cette responsabilité? \n\n\n\n+ \n\n\n\nSuite à l’installation/performance de Matilde Maillard\, L’Autre "lieu" est inviter à présenter le livre OPEN))res((SOURCE comme ressource d’équipements en période de trouble (Présentation du livre\, processus de co-création\, collaboration pour la typo\, essaimage). \n\n\n\nRéservation souhaitée (merci de votre compréhension )  \n\n\n\nSi vous êtes intéressé 🙂 \n\n\n\nRéservez au plus vite par mail à cette adresse ou au 02/230.62.60 \n\n\n\nPrix: Gratuit
URL:https://www.autrelieu.be/evenement/piece-audio-nuage-rose-bebe-sobre/
LOCATION:La Bellone\, 46\, rue de Flandres\, Brussels\, Brussels\, 1000\, Belgique
END:VEVENT
END:VCALENDAR