BEGIN:VCALENDAR
VERSION:2.0
PRODID:-//L&#039;Autre &quot;lieu&quot; - ECPv6.5.1//NONSGML v1.0//EN
CALSCALE:GREGORIAN
METHOD:PUBLISH
X-ORIGINAL-URL:https://www.autrelieu.be
X-WR-CALDESC:évènements pour L&#039;Autre &quot;lieu&quot;
REFRESH-INTERVAL;VALUE=DURATION:PT1H
X-Robots-Tag:noindex
X-PUBLISHED-TTL:PT1H
BEGIN:VTIMEZONE
TZID:Europe/Brussels
BEGIN:DAYLIGHT
TZOFFSETFROM:+0100
TZOFFSETTO:+0200
TZNAME:CEST
DTSTART:20260329T010000
END:DAYLIGHT
BEGIN:STANDARD
TZOFFSETFROM:+0200
TZOFFSETTO:+0100
TZNAME:CET
DTSTART:20261025T010000
END:STANDARD
END:VTIMEZONE
BEGIN:VEVENT
DTSTART;TZID=Europe/Brussels:20260424T130000
DTEND;TZID=Europe/Brussels:20260424T170000
DTSTAMP:20260420T224955
CREATED:20260317T110308Z
LAST-MODIFIED:20260317T110309Z
UID:10768-1777035600-1777050000@www.autrelieu.be
SUMMARY:AmikaroCoffee
DESCRIPTION:Bienvenue à la Maison de l’Autre « Lieu » ! \n\n\n\nLe vendredi après-midi c’est l’Amikaro coffee (de 13h à 17h – parfois 16h si y’a autre chose après 🙂) \n\n\n\nAmikaro\, ça veut dire cercle d’amix en esperanto. \n\n\n\nOn y vient pour (re)tisser des liens\, (re)voir des visages familiers\, habiter un endroit et coconstruire des manières d’être ensemble. \n\n\n\nComme on aime que chacaine prenne soin de l’endroit et des genxtes qui s’y trouvent\, on s’autogère\, et ça\, c’est vraiment super ! \n\n\n\nOn y vient comme on est et on y fait ce qu’on veut\, surtout si c’est rien.  \n\n\n\nOn peut aussi papoter autour d’un café ou d’un thé\, se taire\, jouer à des jeux. \n\n\n\nParfois on cuisine et on mange ensemble ; on lit (seul.e ou à plusieurs) dans les divans de la mezzanine ; on se pose\, on partage\, on se rencontre ; des fois on joue de la musique dans un coin. \n\n\n\nA vendredi ? 
URL:https://www.autrelieu.be/evenement/amikarocoffee-216/
LOCATION:L’Autre “lieu”\, 5\, rue de la Clé\, Bruxelles\, 1000\, Belgique
END:VEVENT
END:VCALENDAR