BEGIN:VCALENDAR
VERSION:2.0
PRODID:-//L&#039;Autre &quot;lieu&quot; - ECPv6.5.1//NONSGML v1.0//EN
CALSCALE:GREGORIAN
METHOD:PUBLISH
X-WR-CALNAME:L&#039;Autre &quot;lieu&quot;
X-ORIGINAL-URL:https://www.autrelieu.be
X-WR-CALDESC:évènements pour L&#039;Autre &quot;lieu&quot;
REFRESH-INTERVAL;VALUE=DURATION:PT1H
X-Robots-Tag:noindex
X-PUBLISHED-TTL:PT1H
BEGIN:VTIMEZONE
TZID:Europe/Brussels
BEGIN:DAYLIGHT
TZOFFSETFROM:+0100
TZOFFSETTO:+0200
TZNAME:CEST
DTSTART:20260329T010000
END:DAYLIGHT
BEGIN:STANDARD
TZOFFSETFROM:+0200
TZOFFSETTO:+0100
TZNAME:CET
DTSTART:20261025T010000
END:STANDARD
END:VTIMEZONE
BEGIN:VEVENT
DTSTART;TZID=Europe/Brussels:20260420T080000
DTEND;TZID=Europe/Brussels:20260420T170000
DTSTAMP:20260420T191817
CREATED:20260416T111342Z
LAST-MODIFIED:20260416T111345Z
UID:10820-1776672000-1776704400@www.autrelieu.be
SUMMARY:L'Autre "lieu" est fermé\, nous devons faire des entretiens embauche toute la journée
DESCRIPTION:
URL:https://www.autrelieu.be/evenement/lautre-lieu-est-ferme-nous-devons-faire-des-entretiens-embauche-toute-la-journee/
LOCATION:L’Autre “lieu”\, 5\, rue de la Clé\, Bruxelles\, 1000\, Belgique
END:VEVENT
BEGIN:VEVENT
DTSTART;TZID=Europe/Brussels:20260420T170000
DTEND;TZID=Europe/Brussels:20260420T180000
DTSTAMP:20260420T191817
CREATED:20260418T115840Z
LAST-MODIFIED:20260418T115841Z
UID:10832-1776704400-1776708000@www.autrelieu.be
SUMMARY:Psylence Radio\, l'émission
DESCRIPTION:l’émission en direct\, c’est lundi 20 avril de 17h à 18h sur les ondes de Radio Panik 105.4 FM ou sur radiopanik.org \n\n\n\n“HeHo HeHo\, on retourne au boulot” \n\n\n\nPsylence revient en course pour une deuxième émission sur le gros dossier du “travail” ! \n\n\n\nEst-ce que se remettre au travail c’est obligatoire ? C’est bénéfique ? C’est utopique ? C’est dangereux ? \n\n\n\nEt quand le travail rend malade\, longtemps\, est-ce qu’il faut absolument y retourner ? \n\n\n\nA l’instar du gouvernement Arizona\, Psylence continue à se pencher sur le oh combien important sujet du travail et accueille pour en parler aujourd’hui\, Robin Susswein\, sociologue et chargé de recherche à la Ligue Bruxelloise pour la Santé Mentale asbl\, ligue qui vient de publier une note sur la politique de remise au travail des malades de longue durée.
URL:https://www.autrelieu.be/evenement/psylence-radio-lemission-4/
LOCATION:L’Autre “lieu”\, 5\, rue de la Clé\, Bruxelles\, 1000\, Belgique
CATEGORIES:Psylence Radio
ATTACH;FMTTYPE=image/jpeg:https://www.autrelieu.be/wp-content/uploads/2026/04/psylence-com-2026-copie.jpg
END:VEVENT
BEGIN:VEVENT
DTSTART;TZID=Europe/Brussels:20260421T080000
DTEND;TZID=Europe/Brussels:20260421T170000
DTSTAMP:20260420T191817
CREATED:20260416T111403Z
LAST-MODIFIED:20260416T111403Z
UID:10822-1776758400-1776790800@www.autrelieu.be
SUMMARY:L'Autre "lieu" est fermé\, nous devons faire des entretiens embauche toute la journée
DESCRIPTION:
URL:https://www.autrelieu.be/evenement/lautre-lieu-est-ferme-nous-devons-faire-des-entretiens-embauche-toute-la-journee-2/
LOCATION:L’Autre “lieu”\, 5\, rue de la Clé\, Bruxelles\, 1000\, Belgique
END:VEVENT
BEGIN:VEVENT
DTSTART;TZID=Europe/Brussels:20260421T184500
DTEND;TZID=Europe/Brussels:20260421T210000
DTSTAMP:20260420T191817
CREATED:20260305T110300Z
LAST-MODIFIED:20260416T120315Z
UID:10719-1776797100-1776805200@www.autrelieu.be
SUMMARY:AmikaroDanse::"Orchestre vide longing for you"
DESCRIPTION:Co-écriture de plateau et interprétation Habib Ben Tanfous\, Adéola Slayers\, Elise Ludinard\, Ludovico Palladini\, Thi-Mai Nguyen  Chorégraphie\, conception\, mise en scène Habib Ben Tanfous  Collaboration artistique/vie Elisa Firouzfar   Durée 1H\n\n\n\nUn voyage théâtral et dansé dans l’univers du karaoké\, entre exubérance des sentiments et réinvention de soi. \n\n\n\nImaginez… Vous entrez dans un bar. Entre les pages d’un épais catalogue\, vous choisissez une chanson\, la notez sur un bout de papier. Vous avez le cœur qui bat la chamade. Comme dans un rêve\, vous saisissez le micro tendu puis\, devant une foule d’inconnu·es\, vous commencez à chanter… Dans Orchestre vide\, longing for you\, cinq personnages aussi éclectiques que singuliers explorent le karaoké comme espace où tous les épanchements sont possibles. Dans les interstices des chansons\, se joue leur combat entre corps social et corps qui déborde ; entre souci de se contenir et besoin irrépressible de se raconter.  \n\n\n\nEt si\, le temps d’une soirée\, on (re)découvrait des facettes de soi inconnues ou oubliées\, étouffées par le quotidien et la normativité ? Et si d’autres histoires étaient possibles ? Le karaoké est plus qu’un divertissement ou une simple parenthèse : il est un lieu où se réinventer\, se dévoiler et se rencontrer\, en faisant fi de la pression du jugement ou de l’exigence de la perfection. À la fois songe et réalité\, expérience individuelle et collective\, il est une surface de projection intime\, le terreau des souvenirs ou de la nostalgie d’un futur à venir. Le temps d’une chanson\, le fantasme d’être quelqu’un d’autre s’y ancre de façon effective. \n\n\n\nInfos pour le public \n\n\n\nLe karaoké débutera une heure avant que le spectacle commence : les spectateur·rices sont invité·es dès leur arrivée au Théâtre à venir boire un verre et pousser la chansonnette\, plonger dans le grand bain des chansons d’amour…  \n\n\n\n Si vous êtes intéressé 🙂 \n\n\n\nRéservation souhaitée (merci de votre compréhension )  \n\n\n\nSi vous êtes intéressé 🙂 \n\n\n\nRéservez au plus vite par mail à cette adresse ou au 02/230.62.60  \n\n\n\nPrix:1\,25 euros ( article 27) \n\n\n\nRdv à 18h au Théâtre Varia \,si vous êtes intéressé.e par le karaoké avant le spectacle \n\n\n\nou/et Rdv 18h45 devant le Théâtre Varia pour lceux/celle qui veulent juste voir le spectacle  \n\n\n\nThéâtre Varia Rue du Sceptre 78 1050 Ixelles \n\n\n\n\n\n\n\nPhoto : Marc Domage
URL:https://www.autrelieu.be/evenement/amikarodanse-orchestre-vide-longing-for-you/
LOCATION:Varia\, Rue du Sceptre\, Ixelles\, 1050
END:VEVENT
BEGIN:VEVENT
DTSTART;TZID=Europe/Brussels:20260422T140000
DTEND;TZID=Europe/Brussels:20260422T170000
DTSTAMP:20260420T191817
CREATED:20260416T111743Z
LAST-MODIFIED:20260416T111744Z
UID:10824-1776866400-1776877200@www.autrelieu.be
SUMMARY:Comité de confection fanzine : THE FINAL COUNTDOWN
DESCRIPTION:L’activité « comité de confection fanzine » c’est un atelier polymorphe pour créer ensemble le 8eme numéro de L’autre « Zine” \n\n\n\nL’Autre ” Zine” c’est une petite publication qui regroupe une année d’activités avec et autour de l’Autre “lieu”. Ce mercredi c’est la dernière ligne droite avant l’envoi à l’impression !
URL:https://www.autrelieu.be/evenement/comite-de-confection-fanzine-the-final-countdown/
LOCATION:L’Autre “lieu”\, 5\, rue de la Clé\, Bruxelles\, 1000\, Belgique
CATEGORIES:Comité de Rédaction Fanzine
END:VEVENT
BEGIN:VEVENT
DTSTART;TZID=Europe/Brussels:20260422T180000
DTEND;TZID=Europe/Brussels:20260422T190000
DTSTAMP:20260420T191817
CREATED:20260416T113256Z
LAST-MODIFIED:20260416T113258Z
UID:10826-1776880800-1776884400@www.autrelieu.be
SUMMARY:Pièce audio Nuage Rose (bébé sobre)
DESCRIPTION:Mise en scène\, écriture et jeu : Mathilde Matt Maillard Dramaturgie de l’attention et jeu : Flavio Rodrigo Orzari Création sonore et musicale : Lieven DousselaereRegard et oreille dramaturgique : Charlotte Kouklia\, Myriam Pruvot\, Gaël Santisteva Durée 1H\n\n\n\nBienvenue dans « Nuage Rose (Bébé Sobre) »\, un dispositif sonore qui permet de partager une recherche en direct. Le temps d’une heure\, vous serez invité·es à vous plonger dans les récits intimes de personnes sobres ou en quête de sobriété. \n\n\n\nEntre un reenactement d’un groupe de parole et une pièce documentaire\, Nuage rose est envisagé comme une ode aux tendres anxieux·ses et à celle·ux qui cherchent à réunir l’intensité et le calme dans une même vie. On tentera d’y déconstruire avec humour et sincérité les idées toutes faites sur l’alcool\, le «genre de l’alcool» et la fameuse quête d’une santé mentale.Et de se demander: qui prend soin de qui\, et comment une communauté – même temporaire – peut-elle assumer cette responsabilité? \n\n\n\n+ \n\n\n\nSuite à l’installation/performance de Matilde Maillard\, L’Autre "lieu" est inviter à présenter le livre OPEN))res((SOURCE comme ressource d’équipements en période de trouble (Présentation du livre\, processus de co-création\, collaboration pour la typo\, essaimage). \n\n\n\nRéservation souhaitée (merci de votre compréhension )  \n\n\n\nSi vous êtes intéressé 🙂 \n\n\n\nRéservez au plus vite par mail à cette adresse ou au 02/230.62.60 \n\n\n\nPrix: Gratuit
URL:https://www.autrelieu.be/evenement/piece-audio-nuage-rose-bebe-sobre/
LOCATION:La Bellone\, 46\, rue de Flandres\, Brussels\, Brussels\, 1000\, Belgique
END:VEVENT
BEGIN:VEVENT
DTSTART;TZID=Europe/Brussels:20260424T130000
DTEND;TZID=Europe/Brussels:20260424T170000
DTSTAMP:20260420T191817
CREATED:20260317T110308Z
LAST-MODIFIED:20260317T110309Z
UID:10768-1777035600-1777050000@www.autrelieu.be
SUMMARY:AmikaroCoffee
DESCRIPTION:Bienvenue à la Maison de l’Autre « Lieu » ! \n\n\n\nLe vendredi après-midi c’est l’Amikaro coffee (de 13h à 17h – parfois 16h si y’a autre chose après 🙂) \n\n\n\nAmikaro\, ça veut dire cercle d’amix en esperanto. \n\n\n\nOn y vient pour (re)tisser des liens\, (re)voir des visages familiers\, habiter un endroit et coconstruire des manières d’être ensemble. \n\n\n\nComme on aime que chacaine prenne soin de l’endroit et des genxtes qui s’y trouvent\, on s’autogère\, et ça\, c’est vraiment super ! \n\n\n\nOn y vient comme on est et on y fait ce qu’on veut\, surtout si c’est rien.  \n\n\n\nOn peut aussi papoter autour d’un café ou d’un thé\, se taire\, jouer à des jeux. \n\n\n\nParfois on cuisine et on mange ensemble ; on lit (seul.e ou à plusieurs) dans les divans de la mezzanine ; on se pose\, on partage\, on se rencontre ; des fois on joue de la musique dans un coin. \n\n\n\nA vendredi ? 
URL:https://www.autrelieu.be/evenement/amikarocoffee-216/
LOCATION:L’Autre “lieu”\, 5\, rue de la Clé\, Bruxelles\, 1000\, Belgique
END:VEVENT
BEGIN:VEVENT
DTSTART;TZID=Europe/Brussels:20260427T150000
DTEND;TZID=Europe/Brussels:20260427T170000
DTSTAMP:20260420T191817
CREATED:20260317T110508Z
LAST-MODIFIED:20260317T110509Z
UID:10770-1777302000-1777309200@www.autrelieu.be
SUMMARY:La Graine
DESCRIPTION:a Graine est un espace de parole et d’entraide ouvert à toutes et à tous. \n\n\n\nOn y parle de ce qui nous traverse\, on y échange nos expériences\, nos épreuves personnelles\, nos difficultés\, nos victoires\, nos désirs. \n\n\n\nC’est un lieu de rencontre où l’attention se porte sur nos ressources et nos énergies plutôt que sur nos faiblesses ou nos handicaps.
URL:https://www.autrelieu.be/evenement/la-graine-148/
LOCATION:L’Autre “lieu”\, 5\, rue de la Clé\, Bruxelles\, 1000\, Belgique
END:VEVENT
BEGIN:VEVENT
DTSTART;TZID=Europe/Brussels:20260429T111500
DTEND;TZID=Europe/Brussels:20260429T130000
DTSTAMP:20260420T191817
CREATED:20260317T110749Z
LAST-MODIFIED:20260317T110750Z
UID:10772-1777461300-1777467600@www.autrelieu.be
SUMMARY:Réunion Rage
DESCRIPTION:Chaque 2eme et dernier mercredi du mois à partir de 11h15 accueil\, et 11h30 début de la réunion \n\n\n\n༘⋆ Venez nous retrouver pour discuter des projets et de l’organisation de l’Autre “lieu” à la réunion ouverte ༘⋆ \n\n\n\nVous avez une proposition à faire ? \n\n\n\nVous avez un avis pour améliorer notre projet collectif ? Vous avez une critique à émettre ? Dans un cadre précis de réunion\, partageons nos points de vues et mettons en commun nos idées.
URL:https://www.autrelieu.be/evenement/reunion-rage-21/
LOCATION:L’Autre “lieu”\, 5\, rue de la Clé\, Bruxelles\, 1000\, Belgique
END:VEVENT
END:VCALENDAR